BEGIN:VCALENDAR
VERSION:2.0
PRODID:-//eventon.com NONSGML v1.0//EN
BEGIN:VEVENT
UID:69e5e8e42571b
DTSTAMP:20260420T105044
DTSTART:20230801
DTEND:20230822
TZID:Pacific/Midway
LOCATION:Kinderhaus St. Paulus Hauptstraße 18\,  93189 Reichenbach
SUMMARY:Sommerferien
DESCRIPTION: Im Zeitraum vom 31.07.2023 &#8211; 21.08.2023 bleibt das Kinderhaus geschlossen.\nhttps://www.kinderhaus-reichenbach.de/events/sommerferien/
URL:https://www.kinderhaus-reichenbach.de/events/sommerferien/
END:VEVENT
END:VCALENDAR